BEGIN:VCALENDAR
VERSION:2.0
PRODID:-//https://bluefires.ch///NONSGML kigkonsult.se iCalcreator 2.10.15//
METHOD:PUBLISH
BEGIN:VEVENT
UID:20260420T121736CEST-4280lNRnVJ@https://bluefires.ch/
DTSTAMP:20260420T101736Z
DESCRIPTION:Second niveau pour devenir un secouriste confirmé dans l'entrep
 rise et dans le domaine privé.Cette formation aux 1ers secours permet à so
 n participant de pouvoir forger sa prise de décision sur des contrôles et 
 l'analyse de constatations.Elle permet au secouriste de pouvoir intervenir
  lors de poste de secours.Elle prépare les participants à pouvoir réagir a
 déquatement dans les meilleurs délais lors d'un accident ou d'un malaise.C
 ette formation comprend un refresh BLS-AED.DatesLes 08 et 09 septembre 202
 2 de 8h30 à 16h30ContenuFormation contenant :Gestion de l'intervention\, c
 haîne de secours\, sécurité et de l'alarme.Connaissance des étapes de l'in
 tervention.Approche du patient selon le schéma ABCDE.Evaluation secondaire
 \, contrôle des paramètres.Prise de décisions.Révision de tous les thèmes 
 du Niveau 1.Les électrisations et pathologies spécifiques.ParticipantsTout
  public dès 12 ansPrérequisNiveau 1 IAS à jourBLS-AED valideDurée14 heures
  - 2 joursPrixCHF 480.-Pass CovidSelon directives en cours&nbsp\; https://
 bluefires.ch/agenda-formations/evenement/46-secouriste-niveau-2-ias-122-19
 -3
DTSTART:20220908T083000Z
DTEND:20220909T163000Z
LOCATION:Chemin du Pré Neuf 1\, 1400 Yverdon-les-Bains (Chemin du Pré Neuf 
 1\, 1400 Yverdon-les-Bains)
SUMMARY:Secouriste Niveau 2 IAS 122.19.3
URL:https://bluefires.ch/agenda-formations/evenement/46-secouriste-niveau-2
 -ias-122-19-3
END:VEVENT
END:VCALENDAR
