BEGIN:VCALENDAR
VERSION:2.0
PRODID:-//https://bluefires.ch///NONSGML kigkonsult.se iCalcreator 2.10.15//
METHOD:PUBLISH
BEGIN:VEVENT
UID:20260421T185801CEST-5557JtWFjx@https://bluefires.ch/
DTSTAMP:20260421T165801Z
DESCRIPTION:Formation de rafraichissement de connaissance.7 heures de forma
 tionY compris refresh BLS-AEDTarif : 250.- Pass Covid seon directives en c
 ours https://bluefires.ch/agenda-formations/evenement/207-refresh-secouris
 te-niveau-1-ias-126-17-03
DTSTART:20260604T083000Z
DTEND:20260604T163000Z
LOCATION:Chemin du Pré Neuf 1\, 1400 Yverdon-les-Bains (Chemin du Pré Neuf 
 1\, 1400 Yverdon-les-Bains)
SUMMARY:Refresh secouriste Niveau 1 IAS 126.17.03
URL:https://bluefires.ch/agenda-formations/evenement/207-refresh-secouriste
 -niveau-1-ias-126-17-03
END:VEVENT
END:VCALENDAR
