BEGIN:VCALENDAR
VERSION:2.0
PRODID:-//https://bluefires.ch///NONSGML kigkonsult.se iCalcreator 2.10.15//
METHOD:PUBLISH
BEGIN:VEVENT
UID:20260421T160324CEST-9231hbwXpd@https://bluefires.ch/
DTSTAMP:20260421T140324Z
DESCRIPTION:Formation de rafraichissement de connaissance.7 heures de forma
 tionY compris refresh BLS-AEDRègles COVID : Selon les normes en cours le j
 our de la formation https://bluefires.ch/agenda-formations/evenement/180-r
 efresh-secouriste-niveau-3-ias-125-28-03
DTSTART:20250613T083000Z
DTEND:20250613T163000Z
LOCATION:Chemin du Pré Neuf 1\, 1400 Yverdon-les-Bains (Chemin du Pré Neuf 
 1\, 1400 Yverdon-les-Bains)
SUMMARY:Refresh secouriste Niveau 3 IAS - 125.28.03
URL:https://bluefires.ch/agenda-formations/evenement/180-refresh-secouriste
 -niveau-3-ias-125-28-03
END:VEVENT
END:VCALENDAR
