BEGIN:VCALENDAR
VERSION:2.0
PRODID:-//https://bluefires.ch///NONSGML kigkonsult.se iCalcreator 2.10.15//
METHOD:PUBLISH
BEGIN:VEVENT
UID:20260420T124230CEST-89717wkkO4@https://bluefires.ch/
DTSTAMP:20260420T104230Z
DESCRIPTION:Journée de rafraichissement des connaissances.7 heures de forma
 tionY compris refresh BLS-AED\nLieu :&nbsp\;Chemin du Pré Neuf 1\, 1400 Yv
 erdon-les-Bains https://bluefires.ch/agenda-formations/evenement/171-refre
 sh-secouriste-niveau-2-ias-125-27-02
DTSTART:20250520T083000Z
DTEND:20250520T163000Z
LOCATION:Chemin du Pré Neuf 1\, 1400 Yverdon-les-Bains (Chemin du Pré Neuf 
 1\, 1400 Yverdon-les-Bains)
SUMMARY:Refresh secouriste Niveau 2 IAS - 125.27.02
URL:https://bluefires.ch/agenda-formations/evenement/171-refresh-secouriste
 -niveau-2-ias-125-27-02
END:VEVENT
END:VCALENDAR
